BEGIN:VCALENDAR
VERSION:2.0
PRODID:-//FairVote Minnesota | Working for more inclusive, representative democracy - ECPv6.15.20//NONSGML v1.0//EN
CALSCALE:GREGORIAN
METHOD:PUBLISH
X-WR-CALNAME:FairVote Minnesota | Working for more inclusive, representative democracy
X-ORIGINAL-URL:https://fairvotemn.org
X-WR-CALDESC:Events for FairVote Minnesota | Working for more inclusive, representative democracy
REFRESH-INTERVAL;VALUE=DURATION:PT1H
X-Robots-Tag:noindex
X-PUBLISHED-TTL:PT1H
BEGIN:VTIMEZONE
TZID:America/Chicago
BEGIN:DAYLIGHT
TZOFFSETFROM:-0600
TZOFFSETTO:-0500
TZNAME:CDT
DTSTART:20210314T080000
END:DAYLIGHT
BEGIN:STANDARD
TZOFFSETFROM:-0500
TZOFFSETTO:-0600
TZNAME:CST
DTSTART:20211107T070000
END:STANDARD
BEGIN:DAYLIGHT
TZOFFSETFROM:-0600
TZOFFSETTO:-0500
TZNAME:CDT
DTSTART:20220313T080000
END:DAYLIGHT
BEGIN:STANDARD
TZOFFSETFROM:-0500
TZOFFSETTO:-0600
TZNAME:CST
DTSTART:20221106T070000
END:STANDARD
BEGIN:DAYLIGHT
TZOFFSETFROM:-0600
TZOFFSETTO:-0500
TZNAME:CDT
DTSTART:20230312T080000
END:DAYLIGHT
BEGIN:STANDARD
TZOFFSETFROM:-0500
TZOFFSETTO:-0600
TZNAME:CST
DTSTART:20231105T070000
END:STANDARD
END:VTIMEZONE
BEGIN:VEVENT
DTSTART;TZID=America/Chicago:20220809T070000
DTEND;TZID=America/Chicago:20220809T200000
DTSTAMP:20260424T103343
CREATED:20220718T193343Z
LAST-MODIFIED:20220718T193343Z
UID:6234-1660028400-1660075200@fairvotemn.org
SUMMARY:2022 Primary Election Day
DESCRIPTION:
URL:https://fairvotemn.org/event/2022-primary-election-day/
CATEGORIES:Election,Primary
END:VEVENT
BEGIN:VEVENT
DTSTART;VALUE=DATE:20220624
DTEND;VALUE=DATE:20220809
DTSTAMP:20260424T103343
CREATED:20220718T193219Z
LAST-MODIFIED:20220718T193219Z
UID:6232-1656028800-1660003199@fairvotemn.org
SUMMARY:2022 Primary Election Early Voting
DESCRIPTION:Early voting for the Primary by mail or in person
URL:https://fairvotemn.org/event/2022-primary-election-early-voting/
CATEGORIES:Election,Primary
END:VEVENT
END:VCALENDAR