BEGIN:VCALENDAR
VERSION:2.0
PRODID:-//FairVote Minnesota | Working for more inclusive, representative democracy - ECPv6.15.20//NONSGML v1.0//EN
CALSCALE:GREGORIAN
METHOD:PUBLISH
X-ORIGINAL-URL:https://fairvotemn.org
X-WR-CALDESC:Events for FairVote Minnesota | Working for more inclusive, representative democracy
REFRESH-INTERVAL;VALUE=DURATION:PT1H
X-Robots-Tag:noindex
X-PUBLISHED-TTL:PT1H
BEGIN:VTIMEZONE
TZID:America/Chicago
BEGIN:DAYLIGHT
TZOFFSETFROM:-0600
TZOFFSETTO:-0500
TZNAME:CDT
DTSTART:20210314T080000
END:DAYLIGHT
BEGIN:STANDARD
TZOFFSETFROM:-0500
TZOFFSETTO:-0600
TZNAME:CST
DTSTART:20211107T070000
END:STANDARD
BEGIN:DAYLIGHT
TZOFFSETFROM:-0600
TZOFFSETTO:-0500
TZNAME:CDT
DTSTART:20220313T080000
END:DAYLIGHT
BEGIN:STANDARD
TZOFFSETFROM:-0500
TZOFFSETTO:-0600
TZNAME:CST
DTSTART:20221106T070000
END:STANDARD
BEGIN:DAYLIGHT
TZOFFSETFROM:-0600
TZOFFSETTO:-0500
TZNAME:CDT
DTSTART:20230312T080000
END:DAYLIGHT
BEGIN:STANDARD
TZOFFSETFROM:-0500
TZOFFSETTO:-0600
TZNAME:CST
DTSTART:20231105T070000
END:STANDARD
END:VTIMEZONE
BEGIN:VEVENT
DTSTART;TZID=America/Chicago:20220918T140000
DTEND;TZID=America/Chicago:20220918T160000
DTSTAMP:20260424T103821
CREATED:20220808T031806Z
LAST-MODIFIED:20220808T031806Z
UID:6354-1663509600-1663516800@fairvotemn.org
SUMMARY:St. Cloud Pride Parade
DESCRIPTION:
URL:https://fairvotemn.org/event/st-cloud-pride-parade/
CATEGORIES:Parade,St. Cloud,Volunteer Opportunity
ATTACH;FMTTYPE=image/png:https://fairvotemn.org/wp-content/uploads/2022/08/st-cloud-pride-logo.png
END:VEVENT
BEGIN:VEVENT
DTSTART;TZID=America/Chicago:20220917T110000
DTEND;TZID=America/Chicago:20220917T160000
DTSTAMP:20260424T103821
CREATED:20220808T031630Z
LAST-MODIFIED:20220808T031630Z
UID:6351-1663412400-1663430400@fairvotemn.org
SUMMARY:St. Cloud Pride in the Park
DESCRIPTION:
URL:https://fairvotemn.org/event/st-cloud-pride-in-the-park/
CATEGORIES:Community Event,St. Cloud,Volunteer Opportunity
ATTACH;FMTTYPE=image/png:https://fairvotemn.org/wp-content/uploads/2022/08/st-cloud-pride-logo.png
END:VEVENT
END:VCALENDAR