BEGIN:VCALENDAR
VERSION:2.0
PRODID:-//FairVote Minnesota | Working for more inclusive, representative democracy - ECPv6.15.20//NONSGML v1.0//EN
CALSCALE:GREGORIAN
METHOD:PUBLISH
X-WR-CALNAME:FairVote Minnesota | Working for more inclusive, representative democracy
X-ORIGINAL-URL:https://fairvotemn.org
X-WR-CALDESC:Events for FairVote Minnesota | Working for more inclusive, representative democracy
REFRESH-INTERVAL;VALUE=DURATION:PT1H
X-Robots-Tag:noindex
X-PUBLISHED-TTL:PT1H
BEGIN:VTIMEZONE
TZID:America/Chicago
BEGIN:DAYLIGHT
TZOFFSETFROM:-0600
TZOFFSETTO:-0500
TZNAME:CDT
DTSTART:20210314T080000
END:DAYLIGHT
BEGIN:STANDARD
TZOFFSETFROM:-0500
TZOFFSETTO:-0600
TZNAME:CST
DTSTART:20211107T070000
END:STANDARD
BEGIN:DAYLIGHT
TZOFFSETFROM:-0600
TZOFFSETTO:-0500
TZNAME:CDT
DTSTART:20220313T080000
END:DAYLIGHT
BEGIN:STANDARD
TZOFFSETFROM:-0500
TZOFFSETTO:-0600
TZNAME:CST
DTSTART:20221106T070000
END:STANDARD
BEGIN:DAYLIGHT
TZOFFSETFROM:-0600
TZOFFSETTO:-0500
TZNAME:CDT
DTSTART:20230312T080000
END:DAYLIGHT
BEGIN:STANDARD
TZOFFSETFROM:-0500
TZOFFSETTO:-0600
TZNAME:CST
DTSTART:20231105T070000
END:STANDARD
END:VTIMEZONE
BEGIN:VEVENT
DTSTART;VALUE=DATE:20220504
DTEND;VALUE=DATE:20220505
DTSTAMP:20260424T103330
CREATED:20220521T050055Z
LAST-MODIFIED:20220621T215118Z
UID:5893-1651622400-1651708799@fairvotemn.org
SUMMARY:Rally for Democracy
DESCRIPTION:
URL:https://fairvotemn.org/event/rally-for-democracy/
CATEGORIES:Rally,St. Paul,Twin Cities
END:VEVENT
END:VCALENDAR